BEGIN:VCALENDAR
BEGIN:VEVENT
SUMMARY:Tim Berne [nycnoise]
DTSTART:20260107T020000Z
DTEND:20260107T030000Z
UID:d31c712b-ccf6-4666-8166-eceddb5dca5a
CREATED:20260425T165041Z
DESCRIPTION:w/ John Hebert\, Gregg Belisle-Chi\, Tom Rainey\, &amp\; speci
 al guest
LOCATION:lowlands (543 3rd ave\, brooklyn)
END:VEVENT
END:VCALENDAR
