BEGIN:VCALENDAR
BEGIN:VEVENT
SUMMARY:Tim Berne [nycnoise]
DTSTART:20260109T020000Z
DTEND:20260109T030000Z
UID:0b36c062-8aaf-44d2-8d05-76432f482d85
CREATED:20260425T165039Z
DESCRIPTION:w/ John Hebert\, Tom Rainey\, special guest
LOCATION:lowlands (543 3rd ave\, brooklyn)
END:VEVENT
END:VCALENDAR
