BEGIN:VCALENDAR
BEGIN:VEVENT
SUMMARY:Tim Berne [nycnoise]
DTSTART:20260116T020000Z
DTEND:20260116T030000Z
UID:5551d763-348f-488b-9e8b-1d158ba7dd34
CREATED:20260425T165143Z
DESCRIPTION:w/ John Hebert\, Tom Rainey\, special guest
LOCATION:lowlands (543 3rd ave\, brooklyn)
END:VEVENT
END:VCALENDAR
