BEGIN:VCALENDAR
BEGIN:VEVENT
SUMMARY:Gabriel Zucker / Aaron Edgcomb / Alfredo Colón [nycnoise]
DTSTART:20260127T010000Z
DTEND:20260127T020000Z
UID:c6541f22-1499-4b22-99a3-c1f290f9f7a3
CREATED:20260425T165214Z
DESCRIPTION:
LOCATION:lowlands (543 3rd ave\, brooklyn)
END:VEVENT
END:VCALENDAR
