BEGIN:VCALENDAR
BEGIN:VEVENT
SUMMARY:No Jersey\, Jenny Alien\, North by North\, First President of Japa
 n [nycnoise]
DTSTART:20260123T000000Z
DTEND:20260123T010000Z
UID:8a525cd3-557e-446f-b253-c4f91fffba55
CREATED:20260425T165003Z
DESCRIPTION:
LOCATION:alphaville (140 wilson ave\, brooklyn)
END:VEVENT
END:VCALENDAR
