BEGIN:VCALENDAR
BEGIN:VEVENT
SUMMARY:Pyroclastic Fest\, Night #1/3: Eric Revis [nycnoise]
DTSTART:20260109T000000Z
DTEND:20260109T010000Z
UID:db91c03b-2a69-4328-855d-2e1036d2b966
CREATED:20260425T165040Z
DESCRIPTION:ER ft. Kris Davis\, Andrew Cyrille +&nbsp\;LIVESTREAM
LOCATION:jazz gallery (1160 broadway (on w. 27th)\, fl.5\, manhattan)
END:VEVENT
END:VCALENDAR
