BEGIN:VCALENDAR
BEGIN:VEVENT
SUMMARY:Pyroclastic Fest\, Night #1/3: Patricia Brennan Septet [nycnoise]
DTSTART:20260109T020000Z
DTEND:20260109T030000Z
UID:53bcdc74-7dbe-4d2b-91aa-dd8d6d4be402
CREATED:20260425T164808Z
DESCRIPTION:LIVESTREAM\; PB w/ Adam O&rsquo\;Farrill\, Jon Irabagon\, Mark
  Shim\, Stephan Crump\, Dan Weiss\, Mauricio Herrera
LOCATION:jazz gallery (1160 broadway (on w. 27th)\, fl.5\, manhattan)
END:VEVENT
END:VCALENDAR
