BEGIN:VCALENDAR
BEGIN:VEVENT
SUMMARY:Pyroclastic Fest\, Night #2/3: Angelica Sanchez Trio [nycnoise]
DTSTART:20260110T020000Z
DTEND:20260110T030000Z
UID:cbc289ab-ec41-4eb8-b352-7fb89e184725
CREATED:20260425T165141Z
DESCRIPTION:ft. Sam Newsome\, Nasheet Waits +&nbsp\;LIVESTREAM
LOCATION:jazz gallery (1160 broadway (on w. 27th)\, fl.5\, manhattan)
END:VEVENT
END:VCALENDAR
