BEGIN:VCALENDAR
BEGIN:VEVENT
SUMMARY:Pyroclastic Fest\, Night #3/3: Kris Davis Quartet [nycnoise]
DTSTART:20260111T000000Z
DTEND:20260111T010000Z
UID:1f407a21-5273-4c4f-a179-4e16fe3f29f8
CREATED:20260425T165213Z
DESCRIPTION:ft. Larry Grenadier\, Nasheet Waits\, Ingrid Laubrock +&nbsp\;
 LIVESTREAM
LOCATION:jazz gallery (1160 broadway (on w. 27th)\, fl.5\, manhattan)
END:VEVENT
END:VCALENDAR
