BEGIN:VCALENDAR
BEGIN:VEVENT
SUMMARY:Ryan Easter's Trap Music Orchestra [nycnoise]
DTSTART:20260205T000000Z
DTEND:20260205T010000Z
UID:22ef3fc6-7d53-4141-89c3-a3e47cae170f
CREATED:20260425T145331Z
DESCRIPTION:full lineup asap + LIVESTREAM
LOCATION:jazz gallery (1160 broadway (on w. 27th)\, fl.5\, manhattan)
END:VEVENT
END:VCALENDAR
