BEGIN:VCALENDAR
BEGIN:VEVENT
SUMMARY:Tim Berne Trio [nycnoise]
DTSTART:20260131T000000Z
DTEND:20260131T010000Z
UID:5d12fd12-3256-4e68-ac04-66661b59b956
CREATED:20260425T165231Z
DESCRIPTION:TB w/ Tim Angulo\, Matt Mitchell + LIVESTREAM
LOCATION:jazz gallery (1160 broadway (on w. 27th)\, fl.5\, manhattan)
END:VEVENT
END:VCALENDAR
