BEGIN:VCALENDAR
BEGIN:VEVENT
SUMMARY:Gelsey Bell: 'mɔɹnɪŋ [morning // mourning]' (w/ Aviva Jaye\, P
 aul Pinto\, Brian McCorkle\, Mia Pak) [nycnoise]
DTSTART:20260113T010000Z
DTEND:20260113T020000Z
UID:55887e14-dff3-4c56-973d-4ef0204f8233
CREATED:20260425T165231Z
DESCRIPTION:7pm/$30 doors
LOCATION:roulette (509 atlantic ave\, brooklyn)
END:VEVENT
END:VCALENDAR
