BEGIN:VCALENDAR
BEGIN:VEVENT
SUMMARY:Elias Stemeseder: 'Studies in Prolation\,' for S-L plus Ensemble [
 nycnoise]
DTSTART:20260118T010000Z
DTEND:20260118T020000Z
UID:f9ae8c9c-78c0-471a-8ac7-398dd287c0dc
CREATED:20260425T165141Z
DESCRIPTION:7pm/$30 doors\; ES w/ DoYeon Kim\, Simon Kanzler\, Shakoor Hak
 eem\, Kris Chen Lil&rsquo\;Injure + LIVESTREAM
LOCATION:roulette (509 atlantic ave\, brooklyn)
END:VEVENT
END:VCALENDAR
