BEGIN:VCALENDAR
BEGIN:VEVENT
SUMMARY:Mixology\, Night #1/4: Ted Gordon's 'The Composer's Black Box: Mak
 ing Music in Cybernetic America' (w/ Marcia Bassett\, Keith Fullerton Whit
 man\, Luke Stewart) [nycnoise]
DTSTART:20260205T010000Z
DTEND:20260205T020000Z
UID:6c483d6b-62cb-46f3-8ae4-34da0e9e47bc
CREATED:20260425T144940Z
DESCRIPTION:7pm/$30 doors\; starts w/ panel discussion\, Q&amp\;A + LIVEST
 REAM
LOCATION:roulette (509 atlantic ave\, brooklyn)
END:VEVENT
END:VCALENDAR
