BEGIN:VCALENDAR
BEGIN:VEVENT
SUMMARY:David Moore (Album Release) [nycnoise]
DTSTART:20260213T010000Z
DTEND:20260213T020000Z
UID:8c50585c-7845-4029-be8e-de1d26a4331a
CREATED:20260425T145107Z
DESCRIPTION:7pm/$30 doors\; album on bandcamp +&nbsp\;LIVESTREAM
LOCATION:roulette (509 atlantic ave\, brooklyn)
END:VEVENT
END:VCALENDAR
