BEGIN:VCALENDAR
BEGIN:VEVENT
SUMMARY:Talk Show: Steph Richards & Qasim Naqvi [nycnoise]
DTSTART:20260227T010000Z
DTEND:20260227T020000Z
UID:12c1ddee-9b11-482e-b173-45ef9a1b76f1
CREATED:20260425T144942Z
DESCRIPTION:7pm/$30 doors\; w/ Steven Wendt on live video &amp\; puppeteer
 ing +&nbsp\;LIVESTREAM
LOCATION:roulette (509 atlantic ave\, brooklyn)
END:VEVENT
END:VCALENDAR
