BEGIN:VCALENDAR
BEGIN:VEVENT
SUMMARY:The Westerlies play Bill Frisell (Album Release) [nycnoise]
DTSTART:20260327T000000Z
DTEND:20260327T010000Z
UID:bbddf219-d81b-47f5-8a58-725a4ee41843
CREATED:20260425T130549Z
DESCRIPTION:7pm/$30 doors\; TW: Riley Mulherkar\, Chloe Rowlands\, Andy Cl
 ausen\, Addison Maye-Saxon +&nbsp\;LIVESTREAM
LOCATION:roulette (509 atlantic ave\, brooklyn)
END:VEVENT
END:VCALENDAR
