BEGIN:VCALENDAR
BEGIN:VEVENT
SUMMARY:Stefani Bondari\, Captain Tallen & the Benevolent Entities\, Castr
 ato [nycnoise]
DTSTART:20260103T000000Z
DTEND:20260103T010000Z
UID:335b50fe-0cef-400b-9d44-b825c67c301f
CREATED:20260425T164846Z
DESCRIPTION:"Top Surgery Fundraiser for TK Boyce"
LOCATION:purgatory (675 central ave\, brooklyn)
END:VEVENT
END:VCALENDAR
