BEGIN:VCALENDAR
BEGIN:VEVENT
SUMMARY:Sam Cope\, Eliza Edens\, Heaven Slight\, vireo [nycnoise]
DTSTART:20260121T010000Z
DTEND:20260121T020000Z
UID:18f72332-a602-44b7-87ed-0b94da030693
CREATED:20260425T165141Z
DESCRIPTION:
LOCATION:purgatory (675 central ave\, brooklyn)
END:VEVENT
END:VCALENDAR
