BEGIN:VCALENDAR
BEGIN:VEVENT
SUMMARY:Guttr\, #Dove\, Deathdrive\, Latinacroft [nycnoise]
DTSTART:20260131T000000Z
DTEND:20260131T010000Z
UID:8dd8db07-4fba-4008-a81d-3afc0ab225d7
CREATED:20260425T165004Z
DESCRIPTION:
LOCATION:purgatory (675 central ave\, brooklyn)
END:VEVENT
END:VCALENDAR
