BEGIN:VCALENDAR
BEGIN:VEVENT
SUMMARY:penny loafer\, many shining windows\, daysies\, wesley wolffe [nyc
 noise]
DTSTART:20260208T000000Z
DTEND:20260208T010000Z
UID:ad444553-a754-4485-b38e-cd90f545ef59
CREATED:20260425T145021Z
DESCRIPTION:
LOCATION:purgatory (675 central ave\, brooklyn)
END:VEVENT
END:VCALENDAR
