BEGIN:VCALENDAR
BEGIN:VEVENT
SUMMARY:Nels Cline & Sally Gates\, Alex Koi x Kirin McElwain [nycnoise]
DTSTART:20260113T010000Z
DTEND:20260113T020000Z
UID:64e2775a-9242-4cb8-9c9d-f32402619001
CREATED:20260425T165142Z
DESCRIPTION:7:30pm doors
LOCATION:sisters (900 fulton st.\, brooklyn)
END:VEVENT
END:VCALENDAR
