BEGIN:VCALENDAR
BEGIN:VEVENT
SUMMARY:WJF: Milena Casado\, BIGYUKI\, Mádé Kuti\, Isaiah Collier [nycno
 ise]
DTSTART:20260114T010000Z
DTEND:20260114T020000Z
UID:7ea30c1c-c8eb-4cc3-b7b9-878516c4feaf
CREATED:20260425T165143Z
DESCRIPTION:
LOCATION:nublu 151 (151 ave c\, manhattan)
END:VEVENT
END:VCALENDAR
