BEGIN:VCALENDAR
BEGIN:VEVENT
SUMMARY:$51 WJF [nycnoise]
DTSTART:20260114T010000Z
DTEND:20260114T020000Z
UID:bc7834b6-e2f8-4da3-8d3f-542b8185dd45
CREATED:20260425T165039Z
DESCRIPTION:Take Two: Dave Harrington&rsquo\;s Pranksters East Reimagine M
 iles Davis' 'Bitches Brew'\; DH w/ Nels Cline\, Yuka Honda\, Shahzad Ismai
 ly\, Anna Abondolo\, Kenny Wollesen\, Tcheser Holmes\, Stuart Bogie\, Ilha
 n Ersahin\, Alfredo Col&oacute\;n\, Phil Weinrobe
LOCATION:le poisson rouge (lpr) (158 bleecker st.\, manhattan)
END:VEVENT
END:VCALENDAR
