BEGIN:VCALENDAR
BEGIN:VEVENT
SUMMARY:BUSH DÜF: Ben Zo\, Erik Braun\, Kō-An\, Primordian [nycnoise]
DTSTART:20260116T030000Z
DTEND:20260116T040000Z
UID:7cee7fb1-f17b-4584-85b4-63a307c44298
CREATED:20260425T165215Z
DESCRIPTION:
LOCATION:silo (90 scott ave\, brooklyn)
END:VEVENT
END:VCALENDAR
