BEGIN:VCALENDAR
BEGIN:VEVENT
SUMMARY:8Ball Radio: *astriks\, Brooke Steele\, Primordian\, Martine\, Rad
 icchio\, kyxm\, Lou Isn't\, Phonozar [nycnoise]
DTSTART:20260124T000000Z
DTEND:20260124T010000Z
UID:4e6709a0-6690-49bf-9a7c-53032d072f36
CREATED:20260425T164934Z
DESCRIPTION:🇵🇸 PACBI (8ball\, not jupiter disco)\; 🌀 free before 
 10pm
LOCATION:jupiter disco (1237 flushing ave\, brooklyn)
END:VEVENT
END:VCALENDAR
