BEGIN:VCALENDAR
BEGIN:VEVENT
SUMMARY:$68 [nycnoise]
DTSTART:20260131T010000Z
DTEND:20260131T020000Z
UID:02b5806a-b6ba-4475-9934-3136d2d04f6b
CREATED:20260425T165039Z
DESCRIPTION:Merge Winter Olympics\, Night #1/2: Annie Lew\, Auspex\, Arthu
 r Robert (live)\, Creams (live)\, Decoder\, Ignez (live)\, jay york\, Juan
 a\, MIZU (live)\, Ne/Re/A\, Rene Wise\, Robert Hood\, Tongue In The Mind (
 live) (Juliana Huxtable\, Via App\, Jealous Orgasm)
LOCATION:<p><strong>tickets for address&nbsp\;</strong>(21)\, bklyn</p>
END:VEVENT
END:VCALENDAR
