BEGIN:VCALENDAR
BEGIN:VEVENT
SUMMARY:Peter Matson (DJ/Hybrid Set)\, Stuart Bogie (live) [nycnoise]
DTSTART:20260116T010000Z
DTEND:20260116T020000Z
UID:f8b5e1b3-0a18-4375-add6-3330c6f04a78
CREATED:20260425T165229Z
DESCRIPTION:
LOCATION:public records' upstairs (233 butler st.\, brooklyn)
END:VEVENT
END:VCALENDAR
