BEGIN:VCALENDAR
BEGIN:VEVENT
SUMMARY:Claudio PRC\, Woody92\, Julia Govor\, Profiler\, Keith Fullerton W
 hitman [nycnoise]
DTSTART:20260124T040000Z
DTEND:20260124T050000Z
UID:3662b095-76f3-487d-9582-8ec5a97b49ae
CREATED:20260425T165230Z
DESCRIPTION:cheaper before-midnight tix on&nbsp\;RA
LOCATION:public records (233 butler st.\, brooklyn)
END:VEVENT
END:VCALENDAR
