BEGIN:VCALENDAR
BEGIN:VEVENT
SUMMARY:Amenthia Showcase: Agonis\, Kamran Sadeghi (live)\, Kat Offline\, 
 NASTIA (DnB Set)\, Ayanna Heaven [nycnoise]
DTSTART:20260131T040000Z
DTEND:20260131T050000Z
UID:6845882d-d564-4514-ba1f-74b38337f25b
CREATED:20260425T165230Z
DESCRIPTION:cheaper before-midnight tix on RA
LOCATION:public records (233 butler st.\, brooklyn)
END:VEVENT
END:VCALENDAR
