BEGIN:VCALENDAR
BEGIN:VEVENT
SUMMARY:Kevin Murray\, Aaron Rubenstein / Samantha Kochis / Eliana Fishbey
 n [nycnoise]
DTSTART:20260112T010000Z
DTEND:20260112T020000Z
UID:deead25b-a2aa-4fe5-9756-d479a5d0902d
CREATED:20260425T165231Z
DESCRIPTION:
LOCATION:lava club
END:VEVENT
END:VCALENDAR
