BEGIN:VCALENDAR
BEGIN:VEVENT
SUMMARY:Caroline Kuhn\, Samuel Boat\, Anna Fox Rochinski [nycnoise]
DTSTART:20260131T010000Z
DTEND:20260131T020000Z
UID:27ec654f-93ad-4cd5-865f-1e2ce48a4748
CREATED:20260425T165301Z
DESCRIPTION:
LOCATION:lava club
END:VEVENT
END:VCALENDAR
