BEGIN:VCALENDAR
BEGIN:VEVENT
SUMMARY:Grace Bergere\, Erica Mancini ft. Marc Ribot\, Knife Thrower\, Big
  Lazy [nycnoise]
DTSTART:20260116T000000Z
DTEND:20260116T010000Z
UID:d1fd0b87-fee1-4306-9d8c-bbb320ed9ad1
CREATED:20260425T165302Z
DESCRIPTION:
LOCATION:tv eye (1647 Weirfield St\, Ridgewood\, NY 11385)
END:VEVENT
END:VCALENDAR
