BEGIN:VCALENDAR
BEGIN:VEVENT
SUMMARY:BLOODRAVE: Pictureplane\, Kilbourne\, NOWHERE2RUN\, Vyper\, Dakota
  Velasquez\, VICIOUSWISHES [nycnoise]
DTSTART:20260201T020000Z
DTEND:20260201T030000Z
UID:dd69fdbc-6681-4f68-b760-bdeeb4af5636
CREATED:20260425T165300Z
DESCRIPTION:
LOCATION:tv eye (1647 Weirfield St\, Ridgewood\, NY 11385)
END:VEVENT
END:VCALENDAR
