BEGIN:VCALENDAR
BEGIN:VEVENT
SUMMARY:Giant Step x WJF: Gilles Peterson (DJ)\, Ron Trent (DJ)\, Kassa Ov
 erall ft. Made Kuti (live) [nycnoise]
DTSTART:20260111T230000Z
DTEND:20260112T000000Z
UID:39aae841-4b08-4cd1-95e7-35d232c14018
CREATED:20260425T165005Z
DESCRIPTION:"celebrating 35.5 years of Giant Step"
LOCATION:elsewhere (599 johnson ave\, brooklyn)
END:VEVENT
END:VCALENDAR
