BEGIN:VCALENDAR
BEGIN:VEVENT
SUMMARY:Nu Jazz\, Industry Standard\, Autobahn\, Tamio Shiraishi\, Emmett 
 Gelber [nycnoise]
DTSTART:20260116T010000Z
DTEND:20260116T020000Z
UID:d8d1474d-bbe2-4e65-a93a-c455348b93b4
CREATED:20260425T165230Z
DESCRIPTION:7pm doors
LOCATION:trans-pecos (9-15 wyckoff ave\, ridgewood)
END:VEVENT
END:VCALENDAR
