BEGIN:VCALENDAR
BEGIN:VEVENT
SUMMARY:Star Card\, Jeerleader\, Swimteam VHS\, Marbling [nycnoise]
DTSTART:20260115T003000Z
DTEND:20260115T013000Z
UID:0fcef934-4fed-474b-997b-2769dd627e99
CREATED:20260425T165229Z
DESCRIPTION:
LOCATION:gold sounds (44 wilson ave\, brooklyn)
END:VEVENT
END:VCALENDAR
