BEGIN:VCALENDAR
BEGIN:VEVENT
SUMMARY:Shardik\, Memory Entry\, Detach the Islands [nycnoise]
DTSTART:20260120T010000Z
DTEND:20260120T020000Z
UID:6dbffcfe-ca8a-44a2-85e0-bbd993c3351c
CREATED:20260425T165229Z
DESCRIPTION:7pm doors\; Shardik: Matt Hollenberg\, Sana Nagano\, Nick Jost
 \, Danny Sher
LOCATION:gold sounds (44 wilson ave\, brooklyn)
END:VEVENT
END:VCALENDAR
