BEGIN:VCALENDAR
BEGIN:VEVENT
SUMMARY:DAYS (Ned Riseley & Ethan Philbrick): 'Internal Audit\,' Night #3/
 3 [nycnoise]
DTSTART:20260308T003000Z
DTEND:20260308T013000Z
UID:77a005a5-78eb-476b-abff-34c44072af04
CREATED:20260425T130851Z
DESCRIPTION:performances by Riseley\, Philbrick\, Erin Markey\, Zo&euml\; 
 Chao\, James Cusati-Moyer\, Francesca D'Uva\, Susana Cord&oacute\;n\, &amp
 \; Madeline Wise\; directed by Tara Ahmadinejad
LOCATION:kitchen at westbeth (163 bank st.\, 4th fl.\, manhattan)
END:VEVENT
END:VCALENDAR
