BEGIN:VCALENDAR
BEGIN:VEVENT
SUMMARY:Otherlands Trio (Stephan Crump\, Darius Jones\, Eric McPherson) [n
 ycnoise]
DTSTART:20260121T020000Z
DTEND:20260121T030000Z
UID:103740a9-6bc4-4ad8-9fb5-cb50b8f8f39e
CREATED:20260425T165301Z
DESCRIPTION:
LOCATION:lunàtico (486 halsey st.\, brooklyn)
END:VEVENT
END:VCALENDAR
