BEGIN:VCALENDAR
BEGIN:VEVENT
SUMMARY:SCREE (Ryan El-Solh\, Carmen Quill\, Jason Burger) [nycnoise]
DTSTART:20260119T020000Z
DTEND:20260119T030000Z
UID:3ea716c6-45fb-4a9c-906c-759bb0435af2
CREATED:20260425T165039Z
DESCRIPTION:
LOCATION:lunàtico (486 halsey st.\, brooklyn)
END:VEVENT
END:VCALENDAR
