BEGIN:VCALENDAR
BEGIN:VEVENT
SUMMARY:JACK x Exponential Fest present: Kyoko Takenaka: 'i’m here & i l
 ove you\,' Day #1/3 [nycnoise]
DTSTART:20260109T233000Z
DTEND:20260110T003000Z
UID:1e3c8763-bfa0-4cd6-9139-9ec3ce973622
CREATED:20260425T165302Z
DESCRIPTION:"butoh dance\, photography\, video\, &amp\; sound art ... sick
 ness\, disability\, queerness\, &amp\; the diaspora ... show contains part
 ial nudity"
LOCATION:jack (18 putnam ave\, brooklyn)
END:VEVENT
END:VCALENDAR
