BEGIN:VCALENDAR
BEGIN:VEVENT
SUMMARY:Soup & Sound: James Falzone [nycnoise]
DTSTART:20260322T190000Z
DTEND:20260322T200000Z
UID:e9165745-4645-4cd8-8cd3-71267cad5878
CREATED:20260425T130529Z
DESCRIPTION:soup status asap
LOCATION:soup & sound (292 lefferts ave\, brooklyn)
END:VEVENT
END:VCALENDAR
