BEGIN:VCALENDAR
BEGIN:VEVENT
SUMMARY:Abasement #84: Hisham Akira Bharoocha / Leila Bordreuil / Nava Dun
 kelman\, History Dog\, Kieran Daly Plays Standards (w/ John Hébert\, Jaso
 n Nazary)\, Wednesday Knudsen\, DJ ice melt\, Ronnie Ahlborn (visuals)\, B
 radley Eros (projections) [nycnoise]
DTSTART:20260217T000000Z
DTEND:20260217T010000Z
UID:7ea9a6b3-be0d-4171-816a-d379f8963b9d
CREATED:20260425T145023Z
DESCRIPTION:
LOCATION:artists space (11 cortlandt alley\, manhattan)
END:VEVENT
END:VCALENDAR
