BEGIN:VCALENDAR
BEGIN:VEVENT
SUMMARY:TAK Ensemble [nycnoise]
DTSTART:20260221T000000Z
DTEND:20260221T010000Z
UID:9c78d60e-fe57-47f6-92ab-5d8ca074600c
CREATED:20260425T145027Z
DESCRIPTION:more info asap
LOCATION:church of st. luke & st. matthew (520 clinton ave\, brooklyn)
END:VEVENT
END:VCALENDAR
