BEGIN:VCALENDAR
BEGIN:VEVENT
SUMMARY:Remergency (Album Release\; Steve Hirsh\, Matt Hollenberg\, Dave S
 ewelson)\, Naomi Extra / Trae Crudup / Melanie Dyer [nycnoise]
DTSTART:20260211T010000Z
DTEND:20260211T020000Z
UID:73a02c25-df2d-46ba-bbd8-51443ba9a7d4
CREATED:20260425T145029Z
DESCRIPTION:7:30pm doors
LOCATION:sisters (900 fulton st.\, brooklyn)
END:VEVENT
END:VCALENDAR
