BEGIN:VCALENDAR
BEGIN:VEVENT
SUMMARY:UP Free Tues: Gun Outfit\, Ornament [nycnoise]
DTSTART:20260218T000000Z
DTEND:20260218T010000Z
UID:8d2d5f1c-7ca2-4edd-b42a-3061d70ba801
CREATED:20260425T145023Z
DESCRIPTION:"rsvp not required\, entrance based on capacity\, first come f
 irst served"
LOCATION:union pool (484 union ave\, brooklyn)
END:VEVENT
END:VCALENDAR
