BEGIN:VCALENDAR
BEGIN:VEVENT
SUMMARY:UP Free Tues: FACS\, Autobahn [nycnoise]
DTSTART:20260211T000000Z
DTEND:20260211T010000Z
UID:c1a0d8e2-5bb4-46d9-86aa-171460597ba8
CREATED:20260425T145028Z
DESCRIPTION:"rsvp not required\, entrance based on capacity\, first come f
 irst served"
LOCATION:union pool (484 union ave\, brooklyn)
END:VEVENT
END:VCALENDAR
