BEGIN:VCALENDAR
BEGIN:VEVENT
SUMMARY:$60 [nycnoise]
DTSTART:20260118T003000Z
DTEND:20260118T013000Z
UID:84c41756-2baf-4bfc-adb5-5d46b4213c74
CREATED:20260425T164932Z
DESCRIPTION:Day #2/3: Narcissister: 'Voyage Into Infinity' (live score by 
 Holland Andrews\, ft. Justin Frye\, Austin Sley Julian\, Greg Fox)\; $20 f
 or nyu ppl
LOCATION:nyu skirball (566 laguardia pl.\, manhattan)
END:VEVENT
END:VCALENDAR
