BEGIN:VCALENDAR
BEGIN:VEVENT
SUMMARY:Mdou Moctar (solo)\, Night #2/2\, ft. Ryan Sawyer [nycnoise]
DTSTART:20260207T000000Z
DTEND:20260207T010000Z
UID:8b67361e-bfe4-489d-9ba1-5dbb40c9b894
CREATED:20260425T145238Z
DESCRIPTION:7pm doors
LOCATION:union pool (484 union ave\, brooklyn)
END:VEVENT
END:VCALENDAR
